BEGIN:VCALENDAR
PRODID:-//JOBo-Web//www.jobo-web.de//version 2.0//DE
CALSCALE:Gregorian
BEGIN:VEVENT
ORGANIZER;CN=", ":MAILTO:info@jobo-web.de
DTSTART:T
DTEND:T
DTSTAMP:T
TRANSP:OPAQUE
SEQUENCE:0
URL:http://www.jobo-web.de/kalender.php?open=1461082470
UID:http://www.jobo-web.de/kalender.php?open=1461082470
SUMMARY:Studio-Orchester/Big Band: Probewochenende Teil 2
DESCRIPTION: 
LOCATION: JOB Probenraum 
ATTENDEE;RSVP=TRUE;ROLE=REQ-PARTICIPANT;CN="":MAILTO:info@jobo-web.de
END:VEVENT
END:VCALENDAR